BEGIN:VCALENDAR
VERSION:2.0
PRODID:-//Stark im Norden - ECPv6.15.18//NONSGML v1.0//EN
CALSCALE:GREGORIAN
METHOD:PUBLISH
X-WR-CALNAME:Stark im Norden
X-ORIGINAL-URL:https://du-starkimnorden.de/wordpress
X-WR-CALDESC:Veranstaltungen für Stark im Norden
REFRESH-INTERVAL;VALUE=DURATION:PT1H
X-Robots-Tag:noindex
X-PUBLISHED-TTL:PT1H
BEGIN:VTIMEZONE
TZID:Europe/Berlin
BEGIN:DAYLIGHT
TZOFFSETFROM:+0100
TZOFFSETTO:+0200
TZNAME:CEST
DTSTART:20250330T010000
END:DAYLIGHT
BEGIN:STANDARD
TZOFFSETFROM:+0200
TZOFFSETTO:+0100
TZNAME:CET
DTSTART:20251026T010000
END:STANDARD
BEGIN:DAYLIGHT
TZOFFSETFROM:+0100
TZOFFSETTO:+0200
TZNAME:CEST
DTSTART:20260329T010000
END:DAYLIGHT
BEGIN:STANDARD
TZOFFSETFROM:+0200
TZOFFSETTO:+0100
TZNAME:CET
DTSTART:20261025T010000
END:STANDARD
BEGIN:DAYLIGHT
TZOFFSETFROM:+0100
TZOFFSETTO:+0200
TZNAME:CEST
DTSTART:20270328T010000
END:DAYLIGHT
BEGIN:STANDARD
TZOFFSETFROM:+0200
TZOFFSETTO:+0100
TZNAME:CET
DTSTART:20271031T010000
END:STANDARD
END:VTIMEZONE
BEGIN:VEVENT
DTSTART;TZID=Europe/Berlin:20260417T170000
DTEND;TZID=Europe/Berlin:20260417T190000
DTSTAMP:20260421T121953
CREATED:20260108T100437Z
LAST-MODIFIED:20260108T100437Z
UID:10001421-1776445200-1776452400@du-starkimnorden.de
SUMMARY:Frauen Empowerment
DESCRIPTION:Im die­sem Kurs geht es um (Selbst-)Ermächtigung und die Stär­kung der eige­nen Auto­no­mie. Der Aus­tausch über unter­schied­li­che\, indi­vi­du­ell und gesell­schaft­lich rele­van­te The­men sowie prak­ti­sche Metho­den stär­ken Selbst­be­wusst­sein und Zusam­men­halt. \nDie Ter­mi­ne kön­nen nach Abspra­che vari­ie­ren. Die Kurs­lei­tung bit­tet um eine Anmel­dung (sie­he Pla­kat). \n  \nFrau­en Empower­ment
URL:https://du-starkimnorden.de/wordpress/event/frauen-empowerment/2026-04-17/
LOCATION:Stadtteilbüro Alt-Hamborn\, Hamborner Altmarkt 8\, Duisburg\, 47166\, Germany
ATTACH;FMTTYPE=application/pdf:https://du-starkimnorden.de/wordpress/wp-content/uploads/2026/01/Frauen-Empowerment-1.pdf
ORGANIZER;CN="Stadtteilb%C3%BCro Alt-Hamborn":MAILTO:alt-hamborn@du-starkimnorden.de
END:VEVENT
END:VCALENDAR