BEGIN:VCALENDAR
VERSION:2.0
PRODID:-//Stark im Norden - ECPv6.15.20//NONSGML v1.0//EN
CALSCALE:GREGORIAN
METHOD:PUBLISH
X-WR-CALNAME:Stark im Norden
X-ORIGINAL-URL:https://du-starkimnorden.de/wordpress
X-WR-CALDESC:Veranstaltungen für Stark im Norden
REFRESH-INTERVAL;VALUE=DURATION:PT1H
X-Robots-Tag:noindex
X-PUBLISHED-TTL:PT1H
BEGIN:VTIMEZONE
TZID:Europe/Berlin
BEGIN:DAYLIGHT
TZOFFSETFROM:+0100
TZOFFSETTO:+0200
TZNAME:CEST
DTSTART:20300331T010000
END:DAYLIGHT
BEGIN:STANDARD
TZOFFSETFROM:+0200
TZOFFSETTO:+0100
TZNAME:CET
DTSTART:20301027T010000
END:STANDARD
BEGIN:DAYLIGHT
TZOFFSETFROM:+0100
TZOFFSETTO:+0200
TZNAME:CEST
DTSTART:20310330T010000
END:DAYLIGHT
BEGIN:STANDARD
TZOFFSETFROM:+0200
TZOFFSETTO:+0100
TZNAME:CET
DTSTART:20311026T010000
END:STANDARD
BEGIN:DAYLIGHT
TZOFFSETFROM:+0100
TZOFFSETTO:+0200
TZNAME:CEST
DTSTART:20320328T010000
END:DAYLIGHT
BEGIN:STANDARD
TZOFFSETFROM:+0200
TZOFFSETTO:+0100
TZNAME:CET
DTSTART:20321031T010000
END:STANDARD
END:VTIMEZONE
BEGIN:VEVENT
DTSTART;TZID=Europe/Berlin:20310101T150000
DTEND;TZID=Europe/Berlin:20310101T170000
DTSTAMP:20260425T134141
CREATED:20260330T082231Z
LAST-MODIFIED:20260330T082231Z
UID:10001679-1925046000-1925053200@du-starkimnorden.de
SUMMARY:Berufsorientierung mit Nadine Nattkamp
DESCRIPTION:THEMEN \nAus­bil­dung mit Zukunft :\n— Wege und Mög­lich­kei­ten\n— Finan­zie­rung der Aus­bil­dung\n— Stär­ken von jun­gen Men­schen \nBewer­bung:\n— leicht & erfolg­reich \nHil­fe fin­den:\n— wich­ti­ge Kon­tak­te & Anlauf­stel­len \nUNSER ANGEBOT\n— indi­vi­du­el­le Bera­tung\n— Work­shops & Schu­lun­gen\n— Info­stän­de & Ver­an­stal­tun­gen \nUnser Ange­bot rich­tet sich an alle\, die jun­ge Men­schen mit Zuwan­de­rungs­ge­schich­te ken­nen und auf dem Weg zur Aus­bil­dung\nunter­stüt­zen möch­ten\, z. B.:\n— Eltern & Ver­wand­te\n— Pädagoginnen/Pädagogen\n— Sporttrainerinnen/Sporttrainer\n— ver­eins­ak­ti­ve Men­schen \nDas Ange­bot ist kos­ten­frei. \nIHR KONTAKT IN DUISBURG\ninte­gra­lis e.V.\nBera­ter: Nadi­ne Natt­kamp\nTele­fon: 0179 6912406\nE‑Mail: nadine.nattkamp@integralis-ev.de
URL:https://du-starkimnorden.de/wordpress/event/berufsorientierung-mit-tobias-harmeling-11-2/2031-01-01/
LOCATION:Stadtteilbüro Marxloh\, Kaiser-Friedrich-Straße 34\, Duisburg\, Germany
CATEGORIES:Beratung
ATTACH;FMTTYPE=image/png:https://du-starkimnorden.de/wordpress/wp-content/uploads/2025/11/rat-geben-e1763374629437.png
END:VEVENT
BEGIN:VEVENT
DTSTART;TZID=Europe/Berlin:20310103T170000
DTEND;TZID=Europe/Berlin:20310103T190000
DTSTAMP:20260425T134141
CREATED:20260108T100437Z
LAST-MODIFIED:20260108T100437Z
UID:10001667-1925226000-1925233200@du-starkimnorden.de
SUMMARY:Frauen Empowerment
DESCRIPTION:Im die­sem Kurs geht es um (Selbst-)Ermächtigung und die Stär­kung der eige­nen Auto­no­mie. Der Aus­tausch über unter­schied­li­che\, indi­vi­du­ell und gesell­schaft­lich rele­van­te The­men sowie prak­ti­sche Metho­den stär­ken Selbst­be­wusst­sein und Zusam­men­halt. \nDie Ter­mi­ne kön­nen nach Abspra­che vari­ie­ren. Die Kurs­lei­tung bit­tet um eine Anmel­dung (sie­he Pla­kat). \n  \nFrau­en Empower­ment
URL:https://du-starkimnorden.de/wordpress/event/frauen-empowerment/2031-01-03/
LOCATION:Stadtteilbüro Alt-Hamborn\, Hamborner Altmarkt 8\, Duisburg\, 47166\, Germany
ATTACH;FMTTYPE=application/pdf:https://du-starkimnorden.de/wordpress/wp-content/uploads/2026/01/Frauen-Empowerment-1.pdf
ORGANIZER;CN="Stadtteilb%C3%BCro Alt-Hamborn":MAILTO:alt-hamborn@du-starkimnorden.de
END:VEVENT
BEGIN:VEVENT
DTSTART;TZID=Europe/Berlin:20310107T111500
DTEND;TZID=Europe/Berlin:20310107T124500
DTSTAMP:20260425T134141
CREATED:20260330T083826Z
LAST-MODIFIED:20260330T092746Z
UID:10001954-1925550900-1925556300@du-starkimnorden.de
SUMMARY:Sprachcafé Marxloh
DESCRIPTION:
URL:https://du-starkimnorden.de/wordpress/event/sprachcafe-marxloh-4-3/2031-01-07/
LOCATION:Stadtteilbüro Marxloh\, Kaiser-Friedrich-Straße 34\, Duisburg\, Germany
CATEGORIES:Sprachcafé
ATTACH;FMTTYPE=image/jpeg:https://du-starkimnorden.de/wordpress/wp-content/uploads/2026/03/1774861952534-dc3faa23-3ecd-40be-845f-2b27e23d7c2f_1.jpg
END:VEVENT
BEGIN:VEVENT
DTSTART;TZID=Europe/Berlin:20310114T111500
DTEND;TZID=Europe/Berlin:20310114T124500
DTSTAMP:20260425T134141
CREATED:20260330T083826Z
LAST-MODIFIED:20260330T092746Z
UID:10001955-1926155700-1926161100@du-starkimnorden.de
SUMMARY:Sprachcafé Marxloh
DESCRIPTION:
URL:https://du-starkimnorden.de/wordpress/event/sprachcafe-marxloh-4-3/2031-01-14/
LOCATION:Stadtteilbüro Marxloh\, Kaiser-Friedrich-Straße 34\, Duisburg\, Germany
CATEGORIES:Sprachcafé
ATTACH;FMTTYPE=image/jpeg:https://du-starkimnorden.de/wordpress/wp-content/uploads/2026/03/1774861952534-dc3faa23-3ecd-40be-845f-2b27e23d7c2f_1.jpg
END:VEVENT
BEGIN:VEVENT
DTSTART;TZID=Europe/Berlin:20310115T150000
DTEND;TZID=Europe/Berlin:20310115T170000
DTSTAMP:20260425T134141
CREATED:20260330T082231Z
LAST-MODIFIED:20260330T082231Z
UID:10001681-1926255600-1926262800@du-starkimnorden.de
SUMMARY:Berufsorientierung mit Nadine Nattkamp
DESCRIPTION:THEMEN \nAus­bil­dung mit Zukunft :\n— Wege und Mög­lich­kei­ten\n— Finan­zie­rung der Aus­bil­dung\n— Stär­ken von jun­gen Men­schen \nBewer­bung:\n— leicht & erfolg­reich \nHil­fe fin­den:\n— wich­ti­ge Kon­tak­te & Anlauf­stel­len \nUNSER ANGEBOT\n— indi­vi­du­el­le Bera­tung\n— Work­shops & Schu­lun­gen\n— Info­stän­de & Ver­an­stal­tun­gen \nUnser Ange­bot rich­tet sich an alle\, die jun­ge Men­schen mit Zuwan­de­rungs­ge­schich­te ken­nen und auf dem Weg zur Aus­bil­dung\nunter­stüt­zen möch­ten\, z. B.:\n— Eltern & Ver­wand­te\n— Pädagoginnen/Pädagogen\n— Sporttrainerinnen/Sporttrainer\n— ver­eins­ak­ti­ve Men­schen \nDas Ange­bot ist kos­ten­frei. \nIHR KONTAKT IN DUISBURG\ninte­gra­lis e.V.\nBera­ter: Nadi­ne Natt­kamp\nTele­fon: 0179 6912406\nE‑Mail: nadine.nattkamp@integralis-ev.de
URL:https://du-starkimnorden.de/wordpress/event/berufsorientierung-mit-tobias-harmeling-11-2/2031-01-15/
LOCATION:Stadtteilbüro Marxloh\, Kaiser-Friedrich-Straße 34\, Duisburg\, Germany
CATEGORIES:Beratung
ATTACH;FMTTYPE=image/png:https://du-starkimnorden.de/wordpress/wp-content/uploads/2025/11/rat-geben-e1763374629437.png
END:VEVENT
BEGIN:VEVENT
DTSTART;TZID=Europe/Berlin:20310121T111500
DTEND;TZID=Europe/Berlin:20310121T124500
DTSTAMP:20260425T134141
CREATED:20260330T083826Z
LAST-MODIFIED:20260330T092746Z
UID:10001956-1926760500-1926765900@du-starkimnorden.de
SUMMARY:Sprachcafé Marxloh
DESCRIPTION:
URL:https://du-starkimnorden.de/wordpress/event/sprachcafe-marxloh-4-3/2031-01-21/
LOCATION:Stadtteilbüro Marxloh\, Kaiser-Friedrich-Straße 34\, Duisburg\, Germany
CATEGORIES:Sprachcafé
ATTACH;FMTTYPE=image/jpeg:https://du-starkimnorden.de/wordpress/wp-content/uploads/2026/03/1774861952534-dc3faa23-3ecd-40be-845f-2b27e23d7c2f_1.jpg
END:VEVENT
BEGIN:VEVENT
DTSTART;TZID=Europe/Berlin:20310128T111500
DTEND;TZID=Europe/Berlin:20310128T124500
DTSTAMP:20260425T134141
CREATED:20260330T083826Z
LAST-MODIFIED:20260330T092746Z
UID:10001957-1927365300-1927370700@du-starkimnorden.de
SUMMARY:Sprachcafé Marxloh
DESCRIPTION:
URL:https://du-starkimnorden.de/wordpress/event/sprachcafe-marxloh-4-3/2031-01-28/
LOCATION:Stadtteilbüro Marxloh\, Kaiser-Friedrich-Straße 34\, Duisburg\, Germany
CATEGORIES:Sprachcafé
ATTACH;FMTTYPE=image/jpeg:https://du-starkimnorden.de/wordpress/wp-content/uploads/2026/03/1774861952534-dc3faa23-3ecd-40be-845f-2b27e23d7c2f_1.jpg
END:VEVENT
BEGIN:VEVENT
DTSTART;TZID=Europe/Berlin:20310129T150000
DTEND;TZID=Europe/Berlin:20310129T170000
DTSTAMP:20260425T134141
CREATED:20260330T082231Z
LAST-MODIFIED:20260330T082231Z
UID:10001683-1927465200-1927472400@du-starkimnorden.de
SUMMARY:Berufsorientierung mit Nadine Nattkamp
DESCRIPTION:THEMEN \nAus­bil­dung mit Zukunft :\n— Wege und Mög­lich­kei­ten\n— Finan­zie­rung der Aus­bil­dung\n— Stär­ken von jun­gen Men­schen \nBewer­bung:\n— leicht & erfolg­reich \nHil­fe fin­den:\n— wich­ti­ge Kon­tak­te & Anlauf­stel­len \nUNSER ANGEBOT\n— indi­vi­du­el­le Bera­tung\n— Work­shops & Schu­lun­gen\n— Info­stän­de & Ver­an­stal­tun­gen \nUnser Ange­bot rich­tet sich an alle\, die jun­ge Men­schen mit Zuwan­de­rungs­ge­schich­te ken­nen und auf dem Weg zur Aus­bil­dung\nunter­stüt­zen möch­ten\, z. B.:\n— Eltern & Ver­wand­te\n— Pädagoginnen/Pädagogen\n— Sporttrainerinnen/Sporttrainer\n— ver­eins­ak­ti­ve Men­schen \nDas Ange­bot ist kos­ten­frei. \nIHR KONTAKT IN DUISBURG\ninte­gra­lis e.V.\nBera­ter: Nadi­ne Natt­kamp\nTele­fon: 0179 6912406\nE‑Mail: nadine.nattkamp@integralis-ev.de
URL:https://du-starkimnorden.de/wordpress/event/berufsorientierung-mit-tobias-harmeling-11-2/2031-01-29/
LOCATION:Stadtteilbüro Marxloh\, Kaiser-Friedrich-Straße 34\, Duisburg\, Germany
CATEGORIES:Beratung
ATTACH;FMTTYPE=image/png:https://du-starkimnorden.de/wordpress/wp-content/uploads/2025/11/rat-geben-e1763374629437.png
END:VEVENT
END:VCALENDAR