BEGIN:VCALENDAR
VERSION:2.0
PRODID:-//Stark im Norden - ECPv6.15.20//NONSGML v1.0//EN
CALSCALE:GREGORIAN
METHOD:PUBLISH
X-WR-CALNAME:Stark im Norden
X-ORIGINAL-URL:https://du-starkimnorden.de/wordpress
X-WR-CALDESC:Veranstaltungen für Stark im Norden
REFRESH-INTERVAL;VALUE=DURATION:PT1H
X-Robots-Tag:noindex
X-PUBLISHED-TTL:PT1H
BEGIN:VTIMEZONE
TZID:Europe/Berlin
BEGIN:DAYLIGHT
TZOFFSETFROM:+0100
TZOFFSETTO:+0200
TZNAME:CEST
DTSTART:20300331T010000
END:DAYLIGHT
BEGIN:STANDARD
TZOFFSETFROM:+0200
TZOFFSETTO:+0100
TZNAME:CET
DTSTART:20301027T010000
END:STANDARD
BEGIN:DAYLIGHT
TZOFFSETFROM:+0100
TZOFFSETTO:+0200
TZNAME:CEST
DTSTART:20310330T010000
END:DAYLIGHT
BEGIN:STANDARD
TZOFFSETFROM:+0200
TZOFFSETTO:+0100
TZNAME:CET
DTSTART:20311026T010000
END:STANDARD
BEGIN:DAYLIGHT
TZOFFSETFROM:+0100
TZOFFSETTO:+0200
TZNAME:CEST
DTSTART:20320328T010000
END:DAYLIGHT
BEGIN:STANDARD
TZOFFSETFROM:+0200
TZOFFSETTO:+0100
TZNAME:CET
DTSTART:20321031T010000
END:STANDARD
END:VTIMEZONE
BEGIN:VEVENT
DTSTART;TZID=Europe/Berlin:20310204T111500
DTEND;TZID=Europe/Berlin:20310204T124500
DTSTAMP:20260425T173804
CREATED:20260330T083826Z
LAST-MODIFIED:20260330T092746Z
UID:10001958-1927970100-1927975500@du-starkimnorden.de
SUMMARY:Sprachcafé Marxloh
DESCRIPTION:
URL:https://du-starkimnorden.de/wordpress/event/sprachcafe-marxloh-4-3/2031-02-04/
LOCATION:Stadtteilbüro Marxloh\, Kaiser-Friedrich-Straße 34\, Duisburg\, Germany
CATEGORIES:Sprachcafé
ATTACH;FMTTYPE=image/jpeg:https://du-starkimnorden.de/wordpress/wp-content/uploads/2026/03/1774861952534-dc3faa23-3ecd-40be-845f-2b27e23d7c2f_1.jpg
END:VEVENT
BEGIN:VEVENT
DTSTART;TZID=Europe/Berlin:20310211T111500
DTEND;TZID=Europe/Berlin:20310211T124500
DTSTAMP:20260425T173804
CREATED:20260330T083826Z
LAST-MODIFIED:20260330T092746Z
UID:10001959-1928574900-1928580300@du-starkimnorden.de
SUMMARY:Sprachcafé Marxloh
DESCRIPTION:
URL:https://du-starkimnorden.de/wordpress/event/sprachcafe-marxloh-4-3/2031-02-11/
LOCATION:Stadtteilbüro Marxloh\, Kaiser-Friedrich-Straße 34\, Duisburg\, Germany
CATEGORIES:Sprachcafé
ATTACH;FMTTYPE=image/jpeg:https://du-starkimnorden.de/wordpress/wp-content/uploads/2026/03/1774861952534-dc3faa23-3ecd-40be-845f-2b27e23d7c2f_1.jpg
END:VEVENT
BEGIN:VEVENT
DTSTART;TZID=Europe/Berlin:20310212T150000
DTEND;TZID=Europe/Berlin:20310212T170000
DTSTAMP:20260425T173804
CREATED:20260330T082231Z
LAST-MODIFIED:20260330T082231Z
UID:10001685-1928674800-1928682000@du-starkimnorden.de
SUMMARY:Berufsorientierung mit Nadine Nattkamp
DESCRIPTION:THEMEN \nAus­bil­dung mit Zukunft :\n— Wege und Mög­lich­kei­ten\n— Finan­zie­rung der Aus­bil­dung\n— Stär­ken von jun­gen Men­schen \nBewer­bung:\n— leicht & erfolg­reich \nHil­fe fin­den:\n— wich­ti­ge Kon­tak­te & Anlauf­stel­len \nUNSER ANGEBOT\n— indi­vi­du­el­le Bera­tung\n— Work­shops & Schu­lun­gen\n— Info­stän­de & Ver­an­stal­tun­gen \nUnser Ange­bot rich­tet sich an alle\, die jun­ge Men­schen mit Zuwan­de­rungs­ge­schich­te ken­nen und auf dem Weg zur Aus­bil­dung\nunter­stüt­zen möch­ten\, z. B.:\n— Eltern & Ver­wand­te\n— Pädagoginnen/Pädagogen\n— Sporttrainerinnen/Sporttrainer\n— ver­eins­ak­ti­ve Men­schen \nDas Ange­bot ist kos­ten­frei. \nIHR KONTAKT IN DUISBURG\ninte­gra­lis e.V.\nBera­ter: Nadi­ne Natt­kamp\nTele­fon: 0179 6912406\nE‑Mail: nadine.nattkamp@integralis-ev.de
URL:https://du-starkimnorden.de/wordpress/event/berufsorientierung-mit-tobias-harmeling-11-2/2031-02-12/
LOCATION:Stadtteilbüro Marxloh\, Kaiser-Friedrich-Straße 34\, Duisburg\, Germany
CATEGORIES:Beratung
ATTACH;FMTTYPE=image/png:https://du-starkimnorden.de/wordpress/wp-content/uploads/2025/11/rat-geben-e1763374629437.png
END:VEVENT
BEGIN:VEVENT
DTSTART;TZID=Europe/Berlin:20310218T111500
DTEND;TZID=Europe/Berlin:20310218T124500
DTSTAMP:20260425T173804
CREATED:20260330T083826Z
LAST-MODIFIED:20260330T092746Z
UID:10001960-1929179700-1929185100@du-starkimnorden.de
SUMMARY:Sprachcafé Marxloh
DESCRIPTION:
URL:https://du-starkimnorden.de/wordpress/event/sprachcafe-marxloh-4-3/2031-02-18/
LOCATION:Stadtteilbüro Marxloh\, Kaiser-Friedrich-Straße 34\, Duisburg\, Germany
CATEGORIES:Sprachcafé
ATTACH;FMTTYPE=image/jpeg:https://du-starkimnorden.de/wordpress/wp-content/uploads/2026/03/1774861952534-dc3faa23-3ecd-40be-845f-2b27e23d7c2f_1.jpg
END:VEVENT
BEGIN:VEVENT
DTSTART;TZID=Europe/Berlin:20310225T111500
DTEND;TZID=Europe/Berlin:20310225T124500
DTSTAMP:20260425T173804
CREATED:20260330T083826Z
LAST-MODIFIED:20260330T092746Z
UID:10001961-1929784500-1929789900@du-starkimnorden.de
SUMMARY:Sprachcafé Marxloh
DESCRIPTION:
URL:https://du-starkimnorden.de/wordpress/event/sprachcafe-marxloh-4-3/2031-02-25/
LOCATION:Stadtteilbüro Marxloh\, Kaiser-Friedrich-Straße 34\, Duisburg\, Germany
CATEGORIES:Sprachcafé
ATTACH;FMTTYPE=image/jpeg:https://du-starkimnorden.de/wordpress/wp-content/uploads/2026/03/1774861952534-dc3faa23-3ecd-40be-845f-2b27e23d7c2f_1.jpg
END:VEVENT
BEGIN:VEVENT
DTSTART;TZID=Europe/Berlin:20310226T150000
DTEND;TZID=Europe/Berlin:20310226T170000
DTSTAMP:20260425T173804
CREATED:20260330T082231Z
LAST-MODIFIED:20260330T082231Z
UID:10001687-1929884400-1929891600@du-starkimnorden.de
SUMMARY:Berufsorientierung mit Nadine Nattkamp
DESCRIPTION:THEMEN \nAus­bil­dung mit Zukunft :\n— Wege und Mög­lich­kei­ten\n— Finan­zie­rung der Aus­bil­dung\n— Stär­ken von jun­gen Men­schen \nBewer­bung:\n— leicht & erfolg­reich \nHil­fe fin­den:\n— wich­ti­ge Kon­tak­te & Anlauf­stel­len \nUNSER ANGEBOT\n— indi­vi­du­el­le Bera­tung\n— Work­shops & Schu­lun­gen\n— Info­stän­de & Ver­an­stal­tun­gen \nUnser Ange­bot rich­tet sich an alle\, die jun­ge Men­schen mit Zuwan­de­rungs­ge­schich­te ken­nen und auf dem Weg zur Aus­bil­dung\nunter­stüt­zen möch­ten\, z. B.:\n— Eltern & Ver­wand­te\n— Pädagoginnen/Pädagogen\n— Sporttrainerinnen/Sporttrainer\n— ver­eins­ak­ti­ve Men­schen \nDas Ange­bot ist kos­ten­frei. \nIHR KONTAKT IN DUISBURG\ninte­gra­lis e.V.\nBera­ter: Nadi­ne Natt­kamp\nTele­fon: 0179 6912406\nE‑Mail: nadine.nattkamp@integralis-ev.de
URL:https://du-starkimnorden.de/wordpress/event/berufsorientierung-mit-tobias-harmeling-11-2/2031-02-26/
LOCATION:Stadtteilbüro Marxloh\, Kaiser-Friedrich-Straße 34\, Duisburg\, Germany
CATEGORIES:Beratung
ATTACH;FMTTYPE=image/png:https://du-starkimnorden.de/wordpress/wp-content/uploads/2025/11/rat-geben-e1763374629437.png
END:VEVENT
END:VCALENDAR